Package: PureCN Version: 2.12.0 Command: /home/biocbuild/R/R/bin/R CMD INSTALL PureCN StartedAt: 2025-01-30 20:29:35 -0000 (Thu, 30 Jan 2025) EndedAt: 2025-01-30 20:30:36 -0000 (Thu, 30 Jan 2025) EllapsedTime: 61.2 seconds RetCode: 0 Status: OK