Package: PureCN Version: 2.12.0 Command: /home/biocbuild/bbs-3.20-bioc/R/bin/R CMD check --install=check:PureCN.install-out.txt --library=/home/biocbuild/bbs-3.20-bioc/R/site-library --timings PureCN_2.12.0.tar.gz StartedAt: 2025-01-31 01:15:42 -0500 (Fri, 31 Jan 2025) EndedAt: 2025-01-31 01:33:38 -0500 (Fri, 31 Jan 2025) EllapsedTime: 1075.4 seconds RetCode: 0 Status: OK CheckDir: PureCN.Rcheck Warnings: 0