Package: PureCN Version: 2.12.0 Command: /Library/Frameworks/R.framework/Resources/bin/R CMD check --install=check:PureCN.install-out.txt --library=/Library/Frameworks/R.framework/Resources/library --no-vignettes --timings PureCN_2.12.0.tar.gz StartedAt: 2025-01-31 08:22:36 -0500 (Fri, 31 Jan 2025) EndedAt: 2025-01-31 08:57:18 -0500 (Fri, 31 Jan 2025) EllapsedTime: 2082.1 seconds RetCode: 0 Status: OK CheckDir: PureCN.Rcheck Warnings: 0