Package: ProtGenerics Version: 1.38.0 Command: /home/biocbuild/R/R/bin/R CMD INSTALL ProtGenerics StartedAt: 2025-01-30 20:09:43 -0000 (Thu, 30 Jan 2025) EndedAt: 2025-01-30 20:10:18 -0000 (Thu, 30 Jan 2025) EllapsedTime: 35.0 seconds RetCode: 0 Status: OK