Package: PolySTest Version: 1.0.2 Command: /home/biocbuild/R/R/bin/R CMD INSTALL PolySTest StartedAt: 2025-01-30 20:58:47 -0000 (Thu, 30 Jan 2025) EndedAt: 2025-01-30 20:59:19 -0000 (Thu, 30 Jan 2025) EllapsedTime: 31.5 seconds RetCode: 0 Status: OK