Package: PolySTest Version: 1.0.2 Command: F:\biocbuild\bbs-3.20-bioc\R\bin\R.exe CMD INSTALL PolySTest StartedAt: 2025-01-30 16:44:18 -0500 (Thu, 30 Jan 2025) EndedAt: 2025-01-30 16:44:58 -0500 (Thu, 30 Jan 2025) EllapsedTime: 40.1 seconds RetCode: 0 Status: OK