Package: PolySTest Version: 1.0.2 Command: rm -rf PolySTest.buildbin-libdir && mkdir PolySTest.buildbin-libdir && F:\biocbuild\bbs-3.20-bioc\R\bin\R.exe CMD INSTALL --build --library=PolySTest.buildbin-libdir PolySTest_1.0.2.tar.gz StartedAt: 2025-01-31 09:18:04 -0500 (Fri, 31 Jan 2025) EndedAt: 2025-01-31 09:18:43 -0500 (Fri, 31 Jan 2025) EllapsedTime: 38.7 seconds RetCode: 0 Status: OK PackageFile: PolySTest_1.0.2.zip PackageFileSize: 1.992 MiB