Package: PoDCall Version: 1.14.0 Command: chmod a+r PoDCall -R && F:\biocbuild\bbs-3.20-bioc\R\bin\R.exe CMD build --keep-empty-dirs --no-resave-data PoDCall StartedAt: 2025-01-30 21:01:55 -0500 (Thu, 30 Jan 2025) EndedAt: 2025-01-30 21:06:06 -0500 (Thu, 30 Jan 2025) EllapsedTime: 251.4 seconds RetCode: 0 Status: OK PackageFile: PoDCall_1.14.0.tar.gz PackageFileSize: 2.014 MiB