Package: PhenStat Version: 2.42.0 Command: /home/biocbuild/R/R/bin/R CMD INSTALL PhenStat StartedAt: 2025-01-30 20:51:32 -0000 (Thu, 30 Jan 2025) EndedAt: 2025-01-30 20:51:52 -0000 (Thu, 30 Jan 2025) EllapsedTime: 19.9 seconds RetCode: 0 Status: OK