Package: PhenStat Version: 2.42.0 Command: /home/biocbuild/bbs-3.20-bioc/R/bin/R CMD build --keep-empty-dirs --no-resave-data --md5 PhenStat StartedAt: 2025-01-30 18:34:08 -0500 (Thu, 30 Jan 2025) EndedAt: 2025-01-30 18:34:36 -0500 (Thu, 30 Jan 2025) EllapsedTime: 27.0 seconds RetCode: 0 Status: OK PackageFile: PhenStat_2.42.0.tar.gz PackageFileSize: 685.1 KiB