Package: PhenStat Version: 2.42.0 Command: /Library/Frameworks/R.framework/Resources/bin/R CMD INSTALL PhenStat StartedAt: 2025-01-30 16:17:38 -0500 (Thu, 30 Jan 2025) EndedAt: 2025-01-30 16:18:19 -0500 (Thu, 30 Jan 2025) EllapsedTime: 41.4 seconds RetCode: 0 Status: OK