Package: PhenStat Version: 2.42.0 Command: /Library/Frameworks/R.framework/Resources/bin/R CMD INSTALL PhenStat StartedAt: 2024-11-19 15:33:58 -0500 (Tue, 19 Nov 2024) EndedAt: 2024-11-19 15:34:24 -0500 (Tue, 19 Nov 2024) EllapsedTime: 25.5 seconds RetCode: 0 Status: OK