Package: PhenStat Version: 2.42.0 Command: /Library/Frameworks/R.framework/Resources/bin/R CMD build --keep-empty-dirs --no-resave-data PhenStat StartedAt: 2024-11-08 18:33:42 -0500 (Fri, 08 Nov 2024) EndedAt: 2024-11-08 18:33:55 -0500 (Fri, 08 Nov 2024) EllapsedTime: 12.1 seconds RetCode: 0 Status: OK PackageFile: PhenStat_2.42.0.tar.gz PackageFileSize: 681.8 KiB