Package: PepSetTest Version: 1.0.0 Command: /home/biocbuild/R/R/bin/R CMD build --keep-empty-dirs --no-resave-data PepSetTest StartedAt: 2024-11-20 02:55:13 -0000 (Wed, 20 Nov 2024) EndedAt: 2024-11-20 02:55:41 -0000 (Wed, 20 Nov 2024) EllapsedTime: 28.0 seconds RetCode: 0 Status: OK PackageFile: PepSetTest_1.0.0.tar.gz PackageFileSize: 275 KiB