Package: PepSetTest Version: 1.0.0 Command: /Library/Frameworks/R.framework/Resources/bin/R CMD build --keep-empty-dirs --no-resave-data PepSetTest StartedAt: 2025-01-31 05:16:54 -0500 (Fri, 31 Jan 2025) EndedAt: 2025-01-31 05:17:19 -0500 (Fri, 31 Jan 2025) EllapsedTime: 25.4 seconds RetCode: 0 Status: OK PackageFile: PepSetTest_1.0.0.tar.gz PackageFileSize: 248.4 KiB