Package: Path2PPI Version: 1.36.0 Command: /home/biocbuild/R/R/bin/R CMD check --install=check:Path2PPI.install-out.txt --library=/home/biocbuild/R/R/site-library --no-vignettes --timings Path2PPI_1.36.0.tar.gz StartedAt: 2025-01-31 09:00:43 -0000 (Fri, 31 Jan 2025) EndedAt: 2025-01-31 09:01:36 -0000 (Fri, 31 Jan 2025) EllapsedTime: 53.1 seconds RetCode: 0 Status: OK CheckDir: Path2PPI.Rcheck Warnings: 0