Package: PanViz Version: 1.8.0 Command: F:\biocbuild\bbs-3.20-bioc\R\bin\R.exe CMD INSTALL PanViz StartedAt: 2025-01-30 15:34:40 -0500 (Thu, 30 Jan 2025) EndedAt: 2025-01-30 15:35:04 -0500 (Thu, 30 Jan 2025) EllapsedTime: 24.1 seconds RetCode: 0 Status: OK