Package: PanViz Version: 1.8.0 Command: chmod a+r PanViz -R && F:\biocbuild\bbs-3.20-bioc\R\bin\R.exe CMD build --keep-empty-dirs --no-resave-data PanViz StartedAt: 2025-01-30 20:49:07 -0500 (Thu, 30 Jan 2025) EndedAt: 2025-01-30 20:49:26 -0500 (Thu, 30 Jan 2025) EllapsedTime: 19.1 seconds RetCode: 1 Status: ERROR PackageFile: None PackageFileSize: NA