Package: PanViz Version: 1.8.0 Command: /Library/Frameworks/R.framework/Resources/bin/R CMD INSTALL PanViz StartedAt: 2025-01-30 15:27:20 -0500 (Thu, 30 Jan 2025) EndedAt: 2025-01-30 15:27:28 -0500 (Thu, 30 Jan 2025) EllapsedTime: 8.1 seconds RetCode: 0 Status: OK