Package: PWMEnrich Version: 4.42.0 Command: /Library/Frameworks/R.framework/Resources/bin/R CMD INSTALL PWMEnrich StartedAt: 2025-01-30 15:23:37 -0500 (Thu, 30 Jan 2025) EndedAt: 2025-01-30 15:24:10 -0500 (Thu, 30 Jan 2025) EllapsedTime: 33.5 seconds RetCode: 0 Status: OK