Package: PROPER Version: 1.38.0 Command: /Library/Frameworks/R.framework/Resources/bin/R CMD INSTALL PROPER StartedAt: 2025-01-30 15:13:33 -0500 (Thu, 30 Jan 2025) EndedAt: 2025-01-30 15:13:35 -0500 (Thu, 30 Jan 2025) EllapsedTime: 1.9 seconds RetCode: 0 Status: OK