Package: PROPER Version: 1.38.0 Command: rm -rf PROPER.buildbin-libdir && mkdir PROPER.buildbin-libdir && /Users/biocbuild/BBS/utils/build-universal.sh PROPER_1.38.0.tar.gz /Library/Frameworks/R.framework/Resources/bin/R PROPER.buildbin-libdir StartedAt: 2025-02-01 16:16:50 -0500 (Sat, 01 Feb 2025) EndedAt: 2025-02-01 16:16:54 -0500 (Sat, 01 Feb 2025) EllapsedTime: 4.4 seconds RetCode: 0 Status: OK PackageFile: PROPER_1.38.0.tgz PackageFileSize: 1.573 MiB