Package: PREDA Version: 1.52.0 Command: /home/biocbuild/R/R/bin/R CMD INSTALL PREDA StartedAt: 2025-01-30 20:54:22 -0000 (Thu, 30 Jan 2025) EndedAt: 2025-01-30 20:54:48 -0000 (Thu, 30 Jan 2025) EllapsedTime: 26.2 seconds RetCode: 0 Status: OK