Package: PREDA Version: 1.52.0 Command: /home/biocbuild/R/R/bin/R CMD build --keep-empty-dirs --no-resave-data PREDA StartedAt: 2025-01-31 01:50:36 -0000 (Fri, 31 Jan 2025) EndedAt: 2025-01-31 01:53:05 -0000 (Fri, 31 Jan 2025) EllapsedTime: 149.2 seconds RetCode: 0 Status: OK PackageFile: PREDA_1.52.0.tar.gz PackageFileSize: 1.991 MiB