Package: PREDA Version: 1.52.0 Command: /Library/Frameworks/R.framework/Resources/bin/R CMD check --install=check:PREDA.install-out.txt --library=/Library/Frameworks/R.framework/Resources/library --no-vignettes --timings PREDA_1.52.0.tar.gz StartedAt: 2025-01-31 08:14:12 -0500 (Fri, 31 Jan 2025) EndedAt: 2025-01-31 08:18:19 -0500 (Fri, 31 Jan 2025) EllapsedTime: 247.6 seconds RetCode: 0 Status: WARNINGS CheckDir: PREDA.Rcheck Warnings: 1