Package: PLPE Version: 1.66.0 Command: /home/biocbuild/bbs-3.20-bioc/R/bin/R CMD check --install=check:PLPE.install-out.txt --library=/home/biocbuild/bbs-3.20-bioc/R/site-library --timings PLPE_1.66.0.tar.gz StartedAt: 2025-01-31 01:06:05 -0500 (Fri, 31 Jan 2025) EndedAt: 2025-01-31 01:06:32 -0500 (Fri, 31 Jan 2025) EllapsedTime: 27.1 seconds RetCode: 0 Status: OK CheckDir: PLPE.Rcheck Warnings: 0