Package: PIUMA Version: 1.2.0 Command: /home/biocbuild/bbs-3.20-bioc/R/bin/R CMD build --keep-empty-dirs --no-resave-data --md5 PIUMA StartedAt: 2025-01-30 18:35:12 -0500 (Thu, 30 Jan 2025) EndedAt: 2025-01-30 18:36:29 -0500 (Thu, 30 Jan 2025) EllapsedTime: 77.1 seconds RetCode: 0 Status: OK PackageFile: PIUMA_1.2.0.tar.gz PackageFileSize: 4.168 MiB