Package: PIPETS Version: 1.2.0 Command: /home/biocbuild/R/R/bin/R CMD check --install=check:PIPETS.install-out.txt --library=/home/biocbuild/R/R/site-library --no-vignettes --timings PIPETS_1.2.0.tar.gz StartedAt: 2025-01-31 09:10:27 -0000 (Fri, 31 Jan 2025) EndedAt: 2025-01-31 09:11:59 -0000 (Fri, 31 Jan 2025) EllapsedTime: 92.1 seconds RetCode: 0 Status: OK CheckDir: PIPETS.Rcheck Warnings: 0