Package: PIPETS Version: 1.2.0 Command: /home/biocbuild/R/R/bin/R CMD build --keep-empty-dirs --no-resave-data PIPETS StartedAt: 2025-01-31 01:47:08 -0000 (Fri, 31 Jan 2025) EndedAt: 2025-01-31 01:47:31 -0000 (Fri, 31 Jan 2025) EllapsedTime: 23.0 seconds RetCode: 0 Status: OK PackageFile: PIPETS_1.2.0.tar.gz PackageFileSize: 2.948 MiB