Package: PICS Version: 2.50.0 Command: chmod a+r PICS -R && F:\biocbuild\bbs-3.20-bioc\R\bin\R.exe CMD build --keep-empty-dirs --no-resave-data PICS StartedAt: 2025-01-30 20:59:06 -0500 (Thu, 30 Jan 2025) EndedAt: 2025-01-30 21:00:19 -0500 (Thu, 30 Jan 2025) EllapsedTime: 73.4 seconds RetCode: 0 Status: OK PackageFile: PICS_2.50.0.tar.gz PackageFileSize: 664.1 KiB