Package: PICS Version: 2.50.0 Command: /home/biocbuild/bbs-3.20-bioc/R/bin/R CMD INSTALL PICS StartedAt: 2025-01-30 15:18:37 -0500 (Thu, 30 Jan 2025) EndedAt: 2025-01-30 15:19:09 -0500 (Thu, 30 Jan 2025) EllapsedTime: 31.9 seconds RetCode: 0 Status: OK