Package: PECA Version: 1.42.0 Command: F:\biocbuild\bbs-3.20-bioc\R\bin\R.exe CMD check --no-multiarch --install=check:PECA.install-out.txt --library=F:\biocbuild\bbs-3.20-bioc\R\library --no-vignettes --timings PECA_1.42.0.tar.gz StartedAt: 2025-01-31 04:59:47 -0500 (Fri, 31 Jan 2025) EndedAt: 2025-01-31 05:02:25 -0500 (Fri, 31 Jan 2025) EllapsedTime: 157.6 seconds RetCode: 0 Status: OK CheckDir: PECA.Rcheck Warnings: 0