Package: PECA Version: 1.42.0 Command: rm -rf PECA.buildbin-libdir && mkdir PECA.buildbin-libdir && /Users/biocbuild/BBS/utils/build-universal.sh PECA_1.42.0.tar.gz /Library/Frameworks/R.framework/Resources/bin/R PECA.buildbin-libdir StartedAt: 2025-01-31 13:22:00 -0500 (Fri, 31 Jan 2025) EndedAt: 2025-01-31 13:22:45 -0500 (Fri, 31 Jan 2025) EllapsedTime: 45.7 seconds RetCode: 0 Status: OK PackageFile: PECA_1.42.0.tgz PackageFileSize: 224 KiB