Package: PECA Version: 1.42.0 Command: /Library/Frameworks/R.framework/Resources/bin/R CMD INSTALL PECA StartedAt: 2025-01-30 17:13:25 -0500 (Thu, 30 Jan 2025) EndedAt: 2025-01-30 17:13:49 -0500 (Thu, 30 Jan 2025) EllapsedTime: 23.7 seconds RetCode: 0 Status: OK