Package: PCAtools Version: 2.18.0 Command: /home/biocbuild/R/R/bin/R CMD build --keep-empty-dirs --no-resave-data PCAtools StartedAt: 2025-01-31 01:42:17 -0000 (Fri, 31 Jan 2025) EndedAt: 2025-01-31 01:46:34 -0000 (Fri, 31 Jan 2025) EllapsedTime: 257.2 seconds RetCode: 0 Status: OK PackageFile: PCAtools_2.18.0.tar.gz PackageFileSize: 7.53 MiB