Package: PAST Version: 1.22.0 Command: /home/biocbuild/R/R/bin/R CMD build --keep-empty-dirs --no-resave-data PAST StartedAt: 2025-01-31 01:40:47 -0000 (Fri, 31 Jan 2025) EndedAt: 2025-01-31 01:43:55 -0000 (Fri, 31 Jan 2025) EllapsedTime: 188.2 seconds RetCode: 0 Status: OK PackageFile: PAST_1.22.0.tar.gz PackageFileSize: 954.8 KiB