Package: PAST Version: 1.22.0 Command: rm -rf PAST.buildbin-libdir && mkdir PAST.buildbin-libdir && /Users/biocbuild/BBS/utils/build-universal.sh PAST_1.22.0.tar.gz /Library/Frameworks/R.framework/Resources/bin/R PAST.buildbin-libdir StartedAt: 2025-01-31 13:21:30 -0500 (Fri, 31 Jan 2025) EndedAt: 2025-01-31 13:22:41 -0500 (Fri, 31 Jan 2025) EllapsedTime: 70.4 seconds RetCode: 0 Status: OK PackageFile: PAST_1.22.0.tgz PackageFileSize: 1008 KiB