Package: PAST Version: 1.22.0 Command: /Library/Frameworks/R.framework/Resources/bin/R CMD INSTALL PAST StartedAt: 2025-01-30 15:53:51 -0500 (Thu, 30 Jan 2025) EndedAt: 2025-01-30 15:54:29 -0500 (Thu, 30 Jan 2025) EllapsedTime: 38.3 seconds RetCode: 0 Status: OK