Package: PANR Version: 1.52.0 Command: rm -rf PANR.buildbin-libdir && mkdir PANR.buildbin-libdir && /Users/biocbuild/BBS/utils/build-universal.sh PANR_1.52.0.tar.gz /Library/Frameworks/R.framework/Resources/bin/R PANR.buildbin-libdir StartedAt: 2025-01-31 13:21:27 -0500 (Fri, 31 Jan 2025) EndedAt: 2025-01-31 13:21:44 -0500 (Fri, 31 Jan 2025) EllapsedTime: 17.2 seconds RetCode: 0 Status: OK PackageFile: PANR_1.52.0.tgz PackageFileSize: 2.132 MiB