Package: PAIRADISE Version: 1.22.0 Command: /home/biocbuild/R/R/bin/R CMD INSTALL PAIRADISE StartedAt: 2025-01-30 20:20:13 -0000 (Thu, 30 Jan 2025) EndedAt: 2025-01-30 20:20:38 -0000 (Thu, 30 Jan 2025) EllapsedTime: 24.5 seconds RetCode: 0 Status: OK