Package: PAIRADISE Version: 1.22.0 Command: /home/biocbuild/R/R/bin/R CMD build --keep-empty-dirs --no-resave-data PAIRADISE StartedAt: 2025-01-31 01:38:55 -0000 (Fri, 31 Jan 2025) EndedAt: 2025-01-31 01:39:45 -0000 (Fri, 31 Jan 2025) EllapsedTime: 50.1 seconds RetCode: 0 Status: OK PackageFile: PAIRADISE_1.22.0.tar.gz PackageFileSize: 386.1 KiB