Package: PAA Version: 1.40.0 Command: /Library/Frameworks/R.framework/Resources/bin/R CMD build --keep-empty-dirs --no-resave-data PAA StartedAt: 2025-01-31 05:03:22 -0500 (Fri, 31 Jan 2025) EndedAt: 2025-01-31 05:05:57 -0500 (Fri, 31 Jan 2025) EllapsedTime: 155.5 seconds RetCode: 0 Status: OK PackageFile: PAA_1.40.0.tar.gz PackageFileSize: 3.744 MiB