Package: OutSplice Version: 1.6.0 Command: /home/biocbuild/bbs-3.20-bioc/R/bin/R CMD INSTALL OutSplice StartedAt: 2025-01-30 15:21:47 -0500 (Thu, 30 Jan 2025) EndedAt: 2025-01-30 15:22:21 -0500 (Thu, 30 Jan 2025) EllapsedTime: 33.1 seconds RetCode: 0 Status: OK