Package: OrderedList Version: 1.78.0 Command: F:\biocbuild\bbs-3.20-bioc\R\bin\R.exe CMD INSTALL OrderedList StartedAt: 2025-01-30 15:24:39 -0500 (Thu, 30 Jan 2025) EndedAt: 2025-01-30 15:24:56 -0500 (Thu, 30 Jan 2025) EllapsedTime: 17.1 seconds RetCode: 0 Status: OK