Package: OmicCircos Version: 1.44.0 Command: /Library/Frameworks/R.framework/Resources/bin/R CMD INSTALL OmicCircos StartedAt: 2024-11-08 15:17:16 -0500 (Fri, 08 Nov 2024) EndedAt: 2024-11-08 15:17:20 -0500 (Fri, 08 Nov 2024) EllapsedTime: 4.2 seconds RetCode: 0 Status: OK