Package: OVESEG Version: 1.22.0 Command: chmod a+r OVESEG -R && F:\biocbuild\bbs-3.20-bioc\R\bin\R.exe CMD build --keep-empty-dirs --no-resave-data OVESEG StartedAt: 2025-01-30 20:45:45 -0500 (Thu, 30 Jan 2025) EndedAt: 2025-01-30 20:51:42 -0500 (Thu, 30 Jan 2025) EllapsedTime: 356.9 seconds RetCode: 0 Status: OK PackageFile: OVESEG_1.22.0.tar.gz PackageFileSize: 766 KiB