Package: OSAT Version: 1.54.0 Command: /home/biocbuild/bbs-3.20-bioc/R/bin/R CMD check --install=check:OSAT.install-out.txt --library=/home/biocbuild/bbs-3.20-bioc/R/site-library --timings OSAT_1.54.0.tar.gz StartedAt: 2025-01-31 00:46:21 -0500 (Fri, 31 Jan 2025) EndedAt: 2025-01-31 00:47:14 -0500 (Fri, 31 Jan 2025) EllapsedTime: 53.1 seconds RetCode: 0 Status: OK CheckDir: OSAT.Rcheck Warnings: 0