Package: OSAT Version: 1.54.0 Command: /home/biocbuild/bbs-3.20-bioc/R/bin/R CMD build --keep-empty-dirs --no-resave-data --md5 OSAT StartedAt: 2025-01-30 18:27:06 -0500 (Thu, 30 Jan 2025) EndedAt: 2025-01-30 18:27:59 -0500 (Thu, 30 Jan 2025) EllapsedTime: 53.1 seconds RetCode: 0 Status: OK PackageFile: OSAT_1.54.0.tar.gz PackageFileSize: 961.8 KiB