Package: OSAT Version: 1.54.0 Command: /Library/Frameworks/R.framework/Resources/bin/R CMD build --keep-empty-dirs --no-resave-data OSAT StartedAt: 2025-01-30 21:36:46 -0500 (Thu, 30 Jan 2025) EndedAt: 2025-01-30 21:39:21 -0500 (Thu, 30 Jan 2025) EllapsedTime: 155.0 seconds RetCode: 0 Status: OK PackageFile: OSAT_1.54.0.tar.gz PackageFileSize: 960 KiB