Package: OSAT Version: 1.54.0 Command: rm -rf OSAT.buildbin-libdir && mkdir OSAT.buildbin-libdir && /Users/biocbuild/BBS/utils/build-universal.sh OSAT_1.54.0.tar.gz /Library/Frameworks/R.framework/Resources/bin/R OSAT.buildbin-libdir StartedAt: 2024-11-20 04:41:30 -0500 (Wed, 20 Nov 2024) EndedAt: 2024-11-20 04:41:38 -0500 (Wed, 20 Nov 2024) EllapsedTime: 8.2 seconds RetCode: 0 Status: OK PackageFile: OSAT_1.54.0.tgz PackageFileSize: 647.7 KiB